BEGIN:VCALENDAR
VERSION:2.0
PRODID:-//Berean Academy - ECPv6.15.17.1//NONSGML v1.0//EN
CALSCALE:GREGORIAN
METHOD:PUBLISH
X-ORIGINAL-URL:https://www.bereanschs.education
X-WR-CALDESC:Events for Berean Academy
REFRESH-INTERVAL;VALUE=DURATION:PT1H
X-Robots-Tag:noindex
X-PUBLISHED-TTL:PT1H
BEGIN:VTIMEZONE
TZID:America/Phoenix
BEGIN:STANDARD
TZOFFSETFROM:-0700
TZOFFSETTO:-0700
TZNAME:MST
DTSTART:20240101T000000
END:STANDARD
END:VTIMEZONE
BEGIN:VEVENT
DTSTART;VALUE=DATE:20251001
DTEND;VALUE=DATE:20251002
DTSTAMP:20260424T192400
CREATED:20250815T215612Z
LAST-MODIFIED:20250815T215612Z
UID:10000617-1759276800-1759363199@www.bereanschs.education
SUMMARY:National Principals Month Begins
DESCRIPTION:
URL:https://www.bereanschs.education/event/national-principals-month-begins
END:VEVENT
BEGIN:VEVENT
DTSTART;TZID=America/Phoenix:20251002T160000
DTEND;TZID=America/Phoenix:20251002T160000
DTSTAMP:20260424T192400
CREATED:20250815T220456Z
LAST-MODIFIED:20250815T220456Z
UID:10000619-1759420800-1759420800@www.bereanschs.education
SUMMARY:PTA Meeting
DESCRIPTION:
URL:https://www.bereanschs.education/event/pta-meeting-2
LOCATION:Room 402
END:VEVENT
BEGIN:VEVENT
DTSTART;TZID=America/Phoenix:20251002T160000
DTEND;TZID=America/Phoenix:20251002T180000
DTSTAMP:20260424T192400
CREATED:20250812T181648Z
LAST-MODIFIED:20250812T181648Z
UID:10000583-1759420800-1759428000@www.bereanschs.education
SUMMARY:Volleyball @ AZ Cultural
DESCRIPTION:
URL:https://www.bereanschs.education/event/volleyball-az-cultural
END:VEVENT
BEGIN:VEVENT
DTSTART;TZID=America/Phoenix:20251002T190000
DTEND;TZID=America/Phoenix:20251002T210000
DTSTAMP:20260424T192400
CREATED:20250812T181839Z
LAST-MODIFIED:20250812T181839Z
UID:10000584-1759431600-1759438800@www.bereanschs.education
SUMMARY:Football @ Skyline Field
DESCRIPTION:
URL:https://www.bereanschs.education/event/football-skyline-field
END:VEVENT
BEGIN:VEVENT
DTSTART;VALUE=DATE:20251005
DTEND;VALUE=DATE:20251006
DTSTAMP:20260424T192400
CREATED:20250815T220653Z
LAST-MODIFIED:20250815T220653Z
UID:10000620-1759622400-1759708799@www.bereanschs.education
SUMMARY:Worlds Teachers Day
DESCRIPTION:
URL:https://www.bereanschs.education/event/worlds-teachers-day
END:VEVENT
BEGIN:VEVENT
DTSTART;TZID=America/Phoenix:20251006T173000
DTEND;TZID=America/Phoenix:20251006T190000
DTSTAMP:20260424T192400
CREATED:20250812T182027Z
LAST-MODIFIED:20250929T164309Z
UID:10000585-1759771800-1759777200@www.bereanschs.education
SUMMARY:Volleyball vs. Walter J.Meyer
DESCRIPTION:
URL:https://www.bereanschs.education/event/volleyball-vs-james-madison
END:VEVENT
BEGIN:VEVENT
DTSTART;VALUE=DATE:20251007
DTEND;VALUE=DATE:20251008
DTSTAMP:20260424T192400
CREATED:20250929T164358Z
LAST-MODIFIED:20250929T164358Z
UID:10000701-1759795200-1759881599@www.bereanschs.education
SUMMARY:National Fire Prevention Week K-3rd
DESCRIPTION:
URL:https://www.bereanschs.education/event/national-fire-prevention-week-k-3rd
END:VEVENT
BEGIN:VEVENT
DTSTART;TZID=America/Phoenix:20251008T170000
DTEND;TZID=America/Phoenix:20251008T190000
DTSTAMP:20260424T192400
CREATED:20250815T164222Z
LAST-MODIFIED:20250929T164453Z
UID:10000595-1759942800-1759950000@www.bereanschs.education
SUMMARY:Middle School Football @ Desert Shadows
DESCRIPTION:
URL:https://www.bereanschs.education/event/middle-school-football-desert-shadows
END:VEVENT
BEGIN:VEVENT
DTSTART;TZID=America/Phoenix:20251009T173000
DTEND;TZID=America/Phoenix:20251009T190000
DTSTAMP:20260424T192400
CREATED:20250812T182226Z
LAST-MODIFIED:20250929T164546Z
UID:10000586-1760031000-1760036400@www.bereanschs.education
SUMMARY:Volleyball vs. Walter J.Meyer
DESCRIPTION:
URL:https://www.bereanschs.education/event/volleyball-vs-91st-psalm-christian
END:VEVENT
BEGIN:VEVENT
DTSTART;VALUE=DATE:20251010
DTEND;VALUE=DATE:20251011
DTSTAMP:20260424T192400
CREATED:20250815T221433Z
LAST-MODIFIED:20250815T221433Z
UID:10000622-1760054400-1760140799@www.bereanschs.education
SUMMARY:No Flex Friday/Aftercare
DESCRIPTION:
URL:https://www.bereanschs.education/event/no-flex-friday-aftercare-21
END:VEVENT
BEGIN:VEVENT
DTSTART;VALUE=DATE:20251010
DTEND;VALUE=DATE:20251018
DTSTAMP:20260424T192400
CREATED:20250626T145408Z
LAST-MODIFIED:20250626T145408Z
UID:10000560-1760054400-1760745599@www.bereanschs.education
SUMMARY:Fall Break - No School
DESCRIPTION:
URL:https://www.bereanschs.education/event/fall-break-no-school-4
END:VEVENT
BEGIN:VEVENT
DTSTART;TZID=America/Phoenix:20251016T171500
DTEND;TZID=America/Phoenix:20251016T184500
DTSTAMP:20260424T192400
CREATED:20250812T182443Z
LAST-MODIFIED:20250812T182443Z
UID:10000587-1760634900-1760640300@www.bereanschs.education
SUMMARY:Volleyball @ Ville De Marie
DESCRIPTION:
URL:https://www.bereanschs.education/event/volleyball-ville-de-marie
END:VEVENT
BEGIN:VEVENT
DTSTART;VALUE=DATE:20251017
DTEND;VALUE=DATE:20251018
DTSTAMP:20260424T192400
CREATED:20250815T221835Z
LAST-MODIFIED:20250815T221835Z
UID:10000623-1760659200-1760745599@www.bereanschs.education
SUMMARY:No Flex Friday/Aftercare
DESCRIPTION:
URL:https://www.bereanschs.education/event/no-flex-friday-aftercare-22
END:VEVENT
BEGIN:VEVENT
DTSTART;TZID=America/Phoenix:20251017T190000
DTEND;TZID=America/Phoenix:20251017T210000
DTSTAMP:20260424T192400
CREATED:20250812T182634Z
LAST-MODIFIED:20250812T182634Z
UID:10000588-1760727600-1760734800@www.bereanschs.education
SUMMARY:Football @ Ajo High
DESCRIPTION:
URL:https://www.bereanschs.education/event/football-ajo-high
END:VEVENT
BEGIN:VEVENT
DTSTART;VALUE=DATE:20251020
DTEND;VALUE=DATE:20251021
DTSTAMP:20260424T192400
CREATED:20250626T133223Z
LAST-MODIFIED:20250626T133223Z
UID:10000545-1760918400-1761004799@www.bereanschs.education
SUMMARY:40th Day of School
DESCRIPTION:
URL:https://www.bereanschs.education/event/40th-day-of-school-3
END:VEVENT
BEGIN:VEVENT
DTSTART;VALUE=DATE:20251020
DTEND;VALUE=DATE:20251021
DTSTAMP:20260424T192400
CREATED:20250815T222101Z
LAST-MODIFIED:20250815T222101Z
UID:10000624-1760918400-1761004799@www.bereanschs.education
SUMMARY:Back to School/First Day of Quarter 2
DESCRIPTION:
URL:https://www.bereanschs.education/event/back-to-school-first-day-of-quarter-2
END:VEVENT
BEGIN:VEVENT
DTSTART;VALUE=DATE:20251020
DTEND;VALUE=DATE:20251024
DTSTAMP:20260424T192400
CREATED:20250626T133409Z
LAST-MODIFIED:20250626T133409Z
UID:10000546-1760918400-1761263999@www.bereanschs.education
SUMMARY:Conferences
DESCRIPTION:
URL:https://www.bereanschs.education/event/conferences-4
END:VEVENT
BEGIN:VEVENT
DTSTART;TZID=America/Phoenix:20251020T173000
DTEND;TZID=America/Phoenix:20251020T190000
DTSTAMP:20260424T192400
CREATED:20250812T182749Z
LAST-MODIFIED:20250929T164737Z
UID:10000589-1760981400-1760986800@www.bereanschs.education
SUMMARY:Volleyball vs. Walter J. Meyer
DESCRIPTION:
URL:https://www.bereanschs.education/event/volleyball-vs-ajo-high
END:VEVENT
BEGIN:VEVENT
DTSTART;VALUE=DATE:20251021
DTEND;VALUE=DATE:20251022
DTSTAMP:20260424T192400
CREATED:20250815T222223Z
LAST-MODIFIED:20250815T222223Z
UID:10000625-1761004800-1761091199@www.bereanschs.education
SUMMARY:PLC (Staff)
DESCRIPTION:
URL:https://www.bereanschs.education/event/plc-staff-3
END:VEVENT
BEGIN:VEVENT
DTSTART;VALUE=DATE:20251022
DTEND;VALUE=DATE:20251023
DTSTAMP:20260424T192400
CREATED:20250929T165015Z
LAST-MODIFIED:20250929T165015Z
UID:10000703-1761091200-1761177599@www.bereanschs.education
SUMMARY:Raffle Air Pod 2 Seniors Outside Event
DESCRIPTION:
URL:https://www.bereanschs.education/event/raffle-air-pod-2-seniors-outside-event
END:VEVENT
BEGIN:VEVENT
DTSTART;TZID=America/Phoenix:20251022T173000
DTEND;TZID=America/Phoenix:20251022T190000
DTSTAMP:20260424T192400
CREATED:20250812T182903Z
LAST-MODIFIED:20250812T182903Z
UID:10000590-1761154200-1761159600@www.bereanschs.education
SUMMARY:Volleyball vs. Tohono O’odham
DESCRIPTION:
URL:https://www.bereanschs.education/event/volleyball-vs-tohono-oodham
END:VEVENT
BEGIN:VEVENT
DTSTART;VALUE=DATE:20251024
DTEND;VALUE=DATE:20251025
DTSTAMP:20260424T192400
CREATED:20250626T142955Z
LAST-MODIFIED:20250815T222503Z
UID:10000552-1761264000-1761350399@www.bereanschs.education
SUMMARY:Staff Training - No Flex Friday/Aftercare
DESCRIPTION:
URL:https://www.bereanschs.education/event/staff-training-no-flex-friday-2
END:VEVENT
BEGIN:VEVENT
DTSTART;VALUE=DATE:20251027
DTEND;VALUE=DATE:20251030
DTSTAMP:20260424T192400
CREATED:20250929T165302Z
LAST-MODIFIED:20250929T165302Z
UID:10000705-1761523200-1761782399@www.bereanschs.education
SUMMARY:Parent Teacher Conferences
DESCRIPTION:
URL:https://www.bereanschs.education/event/parent-teacher-conferences-5
END:VEVENT
BEGIN:VEVENT
DTSTART;VALUE=DATE:20251027
DTEND;VALUE=DATE:20251031
DTSTAMP:20260424T192400
CREATED:20250815T220910Z
LAST-MODIFIED:20250929T191342Z
UID:10000621-1761523200-1761868799@www.bereanschs.education
SUMMARY:Spirit Week (Student Council)
DESCRIPTION:
URL:https://www.bereanschs.education/event/spirit-week-student-council
END:VEVENT
BEGIN:VEVENT
DTSTART;VALUE=DATE:20251027
DTEND;VALUE=DATE:20251031
DTSTAMP:20260424T192400
CREATED:20250929T165228Z
LAST-MODIFIED:20250929T165228Z
UID:10000704-1761523200-1761868799@www.bereanschs.education
SUMMARY:Spirit Week (Student Council)
DESCRIPTION:
URL:https://www.bereanschs.education/event/spirit-week-student-council-3
END:VEVENT
BEGIN:VEVENT
DTSTART;VALUE=DATE:20251028
DTEND;VALUE=DATE:20251029
DTSTAMP:20260424T192400
CREATED:20250815T223308Z
LAST-MODIFIED:20250929T165433Z
UID:10000706-1761609600-1761695999@www.bereanschs.education
SUMMARY:Movie Day (Seniors) K-5th
DESCRIPTION:
URL:https://www.bereanschs.education/event/movie-day-seniors-k-5th/2025-10-28
END:VEVENT
BEGIN:VEVENT
DTSTART;VALUE=DATE:20251029
DTEND;VALUE=DATE:20251030
DTSTAMP:20260424T192400
CREATED:20250815T223308Z
LAST-MODIFIED:20250929T165433Z
UID:10000628-1761696000-1761782399@www.bereanschs.education
SUMMARY:Movie Day (Seniors) K-5th
DESCRIPTION:
URL:https://www.bereanschs.education/event/movie-day-seniors-k-5th/2025-10-29
END:VEVENT
BEGIN:VEVENT
DTSTART;VALUE=DATE:20251029
DTEND;VALUE=DATE:20251030
DTSTAMP:20260424T192400
CREATED:20250929T165559Z
LAST-MODIFIED:20250929T165559Z
UID:10000707-1761696000-1761782399@www.bereanschs.education
SUMMARY:Picture Day Retakes Uniforms
DESCRIPTION:
URL:https://www.bereanschs.education/event/picture-day-retakes-uniforms
END:VEVENT
BEGIN:VEVENT
DTSTART;VALUE=DATE:20251030
DTEND;VALUE=DATE:20251031
DTSTAMP:20260424T192400
CREATED:20250815T223525Z
LAST-MODIFIED:20250815T223525Z
UID:10000630-1761782400-1761868799@www.bereanschs.education
SUMMARY:Costume Contest K-5th $3 (PTA)
DESCRIPTION:
URL:https://www.bereanschs.education/event/costume-contest-k-5th-3-pta
END:VEVENT
BEGIN:VEVENT
DTSTART;VALUE=DATE:20251030
DTEND;VALUE=DATE:20251031
DTSTAMP:20260424T192400
CREATED:20250929T165720Z
LAST-MODIFIED:20250929T165720Z
UID:10000708-1761782400-1761868799@www.bereanschs.education
SUMMARY:Pumpkins\, Apples\, and Pie Oh My (PTA)
DESCRIPTION:
URL:https://www.bereanschs.education/event/pumpkins-apples-and-pie-oh-my-pta
END:VEVENT
END:VCALENDAR