BEGIN:VCALENDAR
VERSION:2.0
PRODID:-//Berean Academy - ECPv6.15.17.1//NONSGML v1.0//EN
CALSCALE:GREGORIAN
METHOD:PUBLISH
X-WR-CALNAME:Berean Academy
X-ORIGINAL-URL:https://www.bereanschs.education
X-WR-CALDESC:Events for Berean Academy
REFRESH-INTERVAL;VALUE=DURATION:PT1H
X-Robots-Tag:noindex
X-PUBLISHED-TTL:PT1H
BEGIN:VTIMEZONE
TZID:America/Phoenix
BEGIN:STANDARD
TZOFFSETFROM:-0700
TZOFFSETTO:-0700
TZNAME:MST
DTSTART:20220101T000000
END:STANDARD
END:VTIMEZONE
BEGIN:VEVENT
DTSTART;TZID=America/Phoenix:20230921T173000
DTEND;TZID=America/Phoenix:20230921T190000
DTSTAMP:20260424T144035
CREATED:20230810T233850Z
LAST-MODIFIED:20230810T233850Z
UID:10000493-1695317400-1695322800@www.bereanschs.education
SUMMARY:Volleyball @ Skyline Gila River
DESCRIPTION:
URL:https://www.bereanschs.education/event/volleyball-skyline-gila-river
END:VEVENT
BEGIN:VEVENT
DTSTART;TZID=America/Phoenix:20230914T180000
DTEND;TZID=America/Phoenix:20230914T200000
DTSTAMP:20260424T144035
CREATED:20230810T233822Z
LAST-MODIFIED:20230810T233822Z
UID:10000492-1694714400-1694721600@www.bereanschs.education
SUMMARY:Football @ Southwest Leadership Academy
DESCRIPTION:
URL:https://www.bereanschs.education/event/football-southwest-leadership-academy
LOCATION:Desert West /Field
END:VEVENT
BEGIN:VEVENT
DTSTART;TZID=America/Phoenix:20230914T160000
DTEND;TZID=America/Phoenix:20230914T173000
DTSTAMP:20260424T144035
CREATED:20230810T233743Z
LAST-MODIFIED:20230810T233743Z
UID:10000491-1694707200-1694712600@www.bereanschs.education
SUMMARY:Volleyball @ AZ Compass
DESCRIPTION:
URL:https://www.bereanschs.education/event/volleyball-az-compass
END:VEVENT
BEGIN:VEVENT
DTSTART;TZID=America/Phoenix:20230908T180000
DTEND;TZID=America/Phoenix:20230908T193000
DTSTAMP:20260424T144035
CREATED:20230810T233715Z
LAST-MODIFIED:20230810T233715Z
UID:10000490-1694196000-1694201400@www.bereanschs.education
SUMMARY:Volleyball vs. Skyline Prep
DESCRIPTION:
URL:https://www.bereanschs.education/event/volleyball-vs-skyline-prep
LOCATION:Valley View Elementary
END:VEVENT
BEGIN:VEVENT
DTSTART;VALUE=DATE:20230908
DTEND;VALUE=DATE:20230909
DTSTAMP:20260424T144035
CREATED:20230717T190533Z
LAST-MODIFIED:20230720T021738Z
UID:10000455-1694131200-1694217599@www.bereanschs.education
SUMMARY:Teacher In-Service\, No Flex Friday
DESCRIPTION:
URL:https://www.bereanschs.education/event/teacher-in-service-no-flex-friday
END:VEVENT
BEGIN:VEVENT
DTSTART;TZID=America/Phoenix:20230907T190000
DTEND;TZID=America/Phoenix:20230907T210000
DTSTAMP:20260424T144035
CREATED:20230810T233643Z
LAST-MODIFIED:20230810T233643Z
UID:10000489-1694113200-1694120400@www.bereanschs.education
SUMMARY:Football vs. New Way Academy
DESCRIPTION:
URL:https://www.bereanschs.education/event/football-vs-new-way-academy
LOCATION:Apache Middle School
END:VEVENT
BEGIN:VEVENT
DTSTART;TZID=America/Phoenix:20230906T180000
DTEND;TZID=America/Phoenix:20230906T193000
DTSTAMP:20260424T144035
CREATED:20230810T233536Z
LAST-MODIFIED:20230810T233536Z
UID:10000488-1694023200-1694028600@www.bereanschs.education
SUMMARY:Volleyball vs. AZ Compass
DESCRIPTION:
URL:https://www.bereanschs.education/event/volleyball-vs-az-compass
LOCATION:Valley View Elementary
END:VEVENT
BEGIN:VEVENT
DTSTART;TZID=America/Phoenix:20230905T140000
DTEND;TZID=America/Phoenix:20230905T160000
DTSTAMP:20260424T144035
CREATED:20230902T005156Z
LAST-MODIFIED:20230902T005302Z
UID:10000504-1693922400-1693929600@www.bereanschs.education
SUMMARY:Bake Sale Fundraiser
DESCRIPTION:
URL:https://www.bereanschs.education/event/bake-sale-fundraiser
END:VEVENT
BEGIN:VEVENT
DTSTART;VALUE=DATE:20230904
DTEND;VALUE=DATE:20230905
DTSTAMP:20260424T144035
CREATED:20230717T190532Z
LAST-MODIFIED:20230720T021709Z
UID:10000454-1693785600-1693871999@www.bereanschs.education
SUMMARY:Labor Day - No School
DESCRIPTION:
URL:https://www.bereanschs.education/event/labor-day-no-school-5
END:VEVENT
BEGIN:VEVENT
DTSTART;TZID=America/Phoenix:20230901T190000
DTEND;TZID=America/Phoenix:20230901T210000
DTSTAMP:20260424T144035
CREATED:20230810T233317Z
LAST-MODIFIED:20230810T233317Z
UID:10000487-1693594800-1693602000@www.bereanschs.education
SUMMARY:Football @ Imagine-Coolidge
DESCRIPTION:
URL:https://www.bereanschs.education/event/football-imagine-coolidge
END:VEVENT
BEGIN:VEVENT
DTSTART;VALUE=DATE:20230901
DTEND;VALUE=DATE:20230902
DTSTAMP:20260424T144035
CREATED:20230717T190532Z
LAST-MODIFIED:20230720T021621Z
UID:10000453-1693526400-1693612799@www.bereanschs.education
SUMMARY:Labor Day - No School
DESCRIPTION:
URL:https://www.bereanschs.education/event/labor-day-no-school-4
END:VEVENT
BEGIN:VEVENT
DTSTART;TZID=America/Phoenix:20230830T180000
DTEND;TZID=America/Phoenix:20230830T193000
DTSTAMP:20260424T144035
CREATED:20230810T233254Z
LAST-MODIFIED:20230810T233254Z
UID:10000486-1693418400-1693423800@www.bereanschs.education
SUMMARY:Volleyball vs. Alta Vista
DESCRIPTION:
URL:https://www.bereanschs.education/event/volleyball-vs-alta-vista
LOCATION:Valley View Elementary
END:VEVENT
BEGIN:VEVENT
DTSTART;TZID=America/Phoenix:20230825T180000
DTEND;TZID=America/Phoenix:20230825T193000
DTSTAMP:20260424T144036
CREATED:20230810T233211Z
LAST-MODIFIED:20230810T233211Z
UID:10000485-1692986400-1692991800@www.bereanschs.education
SUMMARY:Volleyball vs. East Valley High
DESCRIPTION:
URL:https://www.bereanschs.education/event/volleyball-vs-east-valley-high
LOCATION:Valley View Elementary
END:VEVENT
BEGIN:VEVENT
DTSTART;TZID=America/Phoenix:20230823T170000
DTEND;TZID=America/Phoenix:20230823T183000
DTSTAMP:20260424T144036
CREATED:20230810T233053Z
LAST-MODIFIED:20230810T233053Z
UID:10000484-1692810000-1692815400@www.bereanschs.education
SUMMARY:Volleyball @ Sequoia Charter
DESCRIPTION:
URL:https://www.bereanschs.education/event/volleyball-sequoia-charter
END:VEVENT
BEGIN:VEVENT
DTSTART;VALUE=DATE:20230802
DTEND;VALUE=DATE:20230803
DTSTAMP:20260424T144036
CREATED:20230717T190532Z
LAST-MODIFIED:20230720T021218Z
UID:10000452-1690934400-1691020799@www.bereanschs.education
SUMMARY:First Day of School
DESCRIPTION:
URL:https://www.bereanschs.education/event/first-day-of-school-3
END:VEVENT
BEGIN:VEVENT
DTSTART;TZID=America/Phoenix:20230713T000000
DTEND;TZID=America/Phoenix:20230713T000000
DTSTAMP:20260424T144036
CREATED:20230717T190531Z
LAST-MODIFIED:20230717T190531Z
UID:10000451-1689206400-1689206400@www.bereanschs.education
SUMMARY:Board Meeting
DESCRIPTION:
URL:https://www.bereanschs.education/event/board-meeting-16
END:VEVENT
BEGIN:VEVENT
DTSTART;TZID=America/Phoenix:20230627T000000
DTEND;TZID=America/Phoenix:20230627T000000
DTSTAMP:20260424T144036
CREATED:20230717T190517Z
LAST-MODIFIED:20230717T190517Z
UID:10000450-1687824000-1687824000@www.bereanschs.education
SUMMARY:Board Meeting
DESCRIPTION:Join Google Meet
URL:https://www.bereanschs.education/event/board-meeting-15
END:VEVENT
END:VCALENDAR