BEGIN:VCALENDAR
VERSION:2.0
PRODID:-//Berean Academy - ECPv6.15.17.1//NONSGML v1.0//EN
CALSCALE:GREGORIAN
METHOD:PUBLISH
X-WR-CALNAME:Berean Academy
X-ORIGINAL-URL:https://www.bereanschs.education
X-WR-CALDESC:Events for Berean Academy
REFRESH-INTERVAL;VALUE=DURATION:PT1H
X-Robots-Tag:noindex
X-PUBLISHED-TTL:PT1H
BEGIN:VTIMEZONE
TZID:America/Phoenix
BEGIN:STANDARD
TZOFFSETFROM:-0700
TZOFFSETTO:-0700
TZNAME:MST
DTSTART:20230101T000000
END:STANDARD
END:VTIMEZONE
BEGIN:VEVENT
DTSTART;VALUE=DATE:20241220
DTEND;VALUE=DATE:20250104
DTSTAMP:20260424T084934
CREATED:20240702T191536Z
LAST-MODIFIED:20240702T191536Z
UID:10000520-1734652800-1735948799@www.bereanschs.education
SUMMARY:Winter Break - No School
DESCRIPTION:
URL:https://www.bereanschs.education/event/winter-break-no-school-8
END:VEVENT
BEGIN:VEVENT
DTSTART;VALUE=DATE:20250113
DTEND;VALUE=DATE:20250117
DTSTAMP:20260424T084934
CREATED:20240702T183801Z
LAST-MODIFIED:20240702T183801Z
UID:10000510-1736726400-1737071999@www.bereanschs.education
SUMMARY:Conferences
DESCRIPTION:
URL:https://www.bereanschs.education/event/conferences-2
END:VEVENT
BEGIN:VEVENT
DTSTART;VALUE=DATE:20250117
DTEND;VALUE=DATE:20250118
DTSTAMP:20260424T084934
CREATED:20240702T191556Z
LAST-MODIFIED:20240702T191556Z
UID:10000521-1737072000-1737158399@www.bereanschs.education
SUMMARY:Flex Friday
DESCRIPTION:
URL:https://www.bereanschs.education/event/flex-friday-29
END:VEVENT
BEGIN:VEVENT
DTSTART;VALUE=DATE:20250120
DTEND;VALUE=DATE:20250121
DTSTAMP:20260424T084934
CREATED:20240702T191622Z
LAST-MODIFIED:20240702T191622Z
UID:10000522-1737331200-1737417599@www.bereanschs.education
SUMMARY:Martin Luther King Day - No School
DESCRIPTION:
URL:https://www.bereanschs.education/event/martin-luther-king-day-no-school-4
END:VEVENT
BEGIN:VEVENT
DTSTART;VALUE=DATE:20250214
DTEND;VALUE=DATE:20250215
DTSTAMP:20260424T084934
CREATED:20240702T191642Z
LAST-MODIFIED:20240702T191642Z
UID:10000523-1739491200-1739577599@www.bereanschs.education
SUMMARY:Flex Friday
DESCRIPTION:
URL:https://www.bereanschs.education/event/flex-friday-30
END:VEVENT
BEGIN:VEVENT
DTSTART;VALUE=DATE:20250217
DTEND;VALUE=DATE:20250218
DTSTAMP:20260424T084934
CREATED:20240702T191706Z
LAST-MODIFIED:20240702T191706Z
UID:10000524-1739750400-1739836799@www.bereanschs.education
SUMMARY:President's Day - No School
DESCRIPTION:
URL:https://www.bereanschs.education/event/presidents-day-no-school-5
END:VEVENT
BEGIN:VEVENT
DTSTART;VALUE=DATE:20250224
DTEND;VALUE=DATE:20250225
DTSTAMP:20260424T084934
CREATED:20240702T183827Z
LAST-MODIFIED:20240702T183834Z
UID:10000511-1740355200-1740441599@www.bereanschs.education
SUMMARY:100th Day of School
DESCRIPTION:
URL:https://www.bereanschs.education/event/100th-day-of-school-2
END:VEVENT
BEGIN:VEVENT
DTSTART;VALUE=DATE:20250310
DTEND;VALUE=DATE:20250315
DTSTAMP:20260424T084934
CREATED:20240702T191734Z
LAST-MODIFIED:20240702T191734Z
UID:10000525-1741564800-1741996799@www.bereanschs.education
SUMMARY:Spring Break - No School
DESCRIPTION:
URL:https://www.bereanschs.education/event/spring-break-no-school-5
END:VEVENT
BEGIN:VEVENT
DTSTART;TZID=America/Phoenix:20250320T160000
DTEND;TZID=America/Phoenix:20250320T174500
DTSTAMP:20260424T084934
CREATED:20250325T205811Z
LAST-MODIFIED:20250325T205811Z
UID:10000532-1742486400-1742492700@www.bereanschs.education
SUMMARY:Softball @ Tohono
DESCRIPTION:
URL:https://www.bereanschs.education/event/softball-tohono
END:VEVENT
BEGIN:VEVENT
DTSTART;VALUE=DATE:20250324
DTEND;VALUE=DATE:20250328
DTSTAMP:20260424T084934
CREATED:20240702T183913Z
LAST-MODIFIED:20240702T183913Z
UID:10000512-1742774400-1743119999@www.bereanschs.education
SUMMARY:Conferences
DESCRIPTION:
URL:https://www.bereanschs.education/event/conferences-3
END:VEVENT
BEGIN:VEVENT
DTSTART;TZID=America/Phoenix:20250324T160000
DTEND;TZID=America/Phoenix:20250324T174500
DTSTAMP:20260424T084934
CREATED:20250325T205924Z
LAST-MODIFIED:20250325T211630Z
UID:10000533-1742832000-1742838300@www.bereanschs.education
SUMMARY:Softball vs. Thunderbird
DESCRIPTION:Home
URL:https://www.bereanschs.education/event/softball-vs-thunderbird
END:VEVENT
BEGIN:VEVENT
DTSTART;TZID=America/Phoenix:20250325T170000
DTEND;TZID=America/Phoenix:20250325T184500
DTSTAMP:20260424T084934
CREATED:20250325T210045Z
LAST-MODIFIED:20250325T210045Z
UID:10000534-1742922000-1742928300@www.bereanschs.education
SUMMARY:Softball @ Gila Bend
DESCRIPTION:
URL:https://www.bereanschs.education/event/softball-gila-bend
END:VEVENT
BEGIN:VEVENT
DTSTART;TZID=America/Phoenix:20250327T160000
DTEND;TZID=America/Phoenix:20250327T174500
DTSTAMP:20260424T084934
CREATED:20250325T210149Z
LAST-MODIFIED:20250325T210149Z
UID:10000535-1743091200-1743097500@www.bereanschs.education
SUMMARY:Softball vs. Ajo
DESCRIPTION:Home
URL:https://www.bereanschs.education/event/softball-vs-ajo
END:VEVENT
BEGIN:VEVENT
DTSTART;TZID=America/Phoenix:20250402T160000
DTEND;TZID=America/Phoenix:20250402T174500
DTSTAMP:20260424T084934
CREATED:20250325T210256Z
LAST-MODIFIED:20250325T210256Z
UID:10000536-1743609600-1743615900@www.bereanschs.education
SUMMARY:Softball @ Heritage
DESCRIPTION:
URL:https://www.bereanschs.education/event/softball-heritage
END:VEVENT
BEGIN:VEVENT
DTSTART;TZID=America/Phoenix:20250403T160000
DTEND;TZID=America/Phoenix:20250403T174500
DTSTAMP:20260424T084934
CREATED:20250325T210407Z
LAST-MODIFIED:20250325T210407Z
UID:10000537-1743696000-1743702300@www.bereanschs.education
SUMMARY:Softball vs. Gila Bend
DESCRIPTION:Home
URL:https://www.bereanschs.education/event/softball-vs-gila-bend
END:VEVENT
BEGIN:VEVENT
DTSTART;TZID=America/Phoenix:20250408T163000
DTEND;TZID=America/Phoenix:20250408T183000
DTSTAMP:20260424T084934
CREATED:20250325T210622Z
LAST-MODIFIED:20250325T210622Z
UID:10000538-1744129800-1744137000@www.bereanschs.education
SUMMARY:Softball @ Sequoia
DESCRIPTION:
URL:https://www.bereanschs.education/event/softball-sequoia
END:VEVENT
BEGIN:VEVENT
DTSTART;TZID=America/Phoenix:20250410T150000
DTEND;TZID=America/Phoenix:20250410T164500
DTSTAMP:20260424T084934
CREATED:20250325T210800Z
LAST-MODIFIED:20250325T210800Z
UID:10000539-1744297200-1744303500@www.bereanschs.education
SUMMARY:Softball @ PVCP
DESCRIPTION:
URL:https://www.bereanschs.education/event/softball-pvcp
END:VEVENT
BEGIN:VEVENT
DTSTART;TZID=America/Phoenix:20250412T130000
DTEND;TZID=America/Phoenix:20250412T144500
DTSTAMP:20260424T084934
CREATED:20250325T211046Z
LAST-MODIFIED:20250325T211046Z
UID:10000540-1744462800-1744469100@www.bereanschs.education
SUMMARY:Softball vs. Paradise Valley
DESCRIPTION:Home
URL:https://www.bereanschs.education/event/softball-vs-paradise-valley
END:VEVENT
BEGIN:VEVENT
DTSTART;TZID=America/Phoenix:20250415T160000
DTEND;TZID=America/Phoenix:20250415T174500
DTSTAMP:20260424T084934
CREATED:20250325T211152Z
LAST-MODIFIED:20250325T211152Z
UID:10000541-1744732800-1744739100@www.bereanschs.education
SUMMARY:Softball @ Ajo
DESCRIPTION:
URL:https://www.bereanschs.education/event/softball-ajo
END:VEVENT
BEGIN:VEVENT
DTSTART;TZID=America/Phoenix:20250417T160000
DTEND;TZID=America/Phoenix:20250417T174500
DTSTAMP:20260424T084934
CREATED:20250325T211308Z
LAST-MODIFIED:20250325T211308Z
UID:10000542-1744905600-1744911900@www.bereanschs.education
SUMMARY:Softball vs. Tohono
DESCRIPTION:Home
URL:https://www.bereanschs.education/event/softball-vs-tohono
END:VEVENT
BEGIN:VEVENT
DTSTART;VALUE=DATE:20250418
DTEND;VALUE=DATE:20250419
DTSTAMP:20260424T084934
CREATED:20240702T191803Z
LAST-MODIFIED:20240702T191803Z
UID:10000526-1744934400-1745020799@www.bereanschs.education
SUMMARY:Flex Friday
DESCRIPTION:
URL:https://www.bereanschs.education/event/flex-friday-31
END:VEVENT
BEGIN:VEVENT
DTSTART;VALUE=DATE:20250421
DTEND;VALUE=DATE:20250422
DTSTAMP:20260424T084934
CREATED:20240702T191831Z
LAST-MODIFIED:20240702T191831Z
UID:10000527-1745193600-1745279999@www.bereanschs.education
SUMMARY:Easter Break - No School
DESCRIPTION:
URL:https://www.bereanschs.education/event/easter-break-no-school-3
END:VEVENT
BEGIN:VEVENT
DTSTART;TZID=America/Phoenix:20250422T160000
DTEND;TZID=America/Phoenix:20250422T174500
DTSTAMP:20260424T084934
CREATED:20250325T211443Z
LAST-MODIFIED:20250325T211443Z
UID:10000543-1745337600-1745343900@www.bereanschs.education
SUMMARY:Softball vs. Sequoia
DESCRIPTION:Home
URL:https://www.bereanschs.education/event/softball-vs-sequoia
END:VEVENT
BEGIN:VEVENT
DTSTART;VALUE=DATE:20250519
DTEND;VALUE=DATE:20250520
DTSTAMP:20260424T084934
CREATED:20240702T191934Z
LAST-MODIFIED:20240702T191934Z
UID:10000528-1747612800-1747699199@www.bereanschs.education
SUMMARY:Kindergarten Promotion
DESCRIPTION:
URL:https://www.bereanschs.education/event/kindergarten-promotion-2
END:VEVENT
BEGIN:VEVENT
DTSTART;VALUE=DATE:20250520
DTEND;VALUE=DATE:20250521
DTSTAMP:20260424T084934
CREATED:20240702T191954Z
LAST-MODIFIED:20240702T191954Z
UID:10000529-1747699200-1747785599@www.bereanschs.education
SUMMARY:High School Graduation
DESCRIPTION:
URL:https://www.bereanschs.education/event/high-school-graduation-2
END:VEVENT
BEGIN:VEVENT
DTSTART;VALUE=DATE:20250521
DTEND;VALUE=DATE:20250522
DTSTAMP:20260424T084934
CREATED:20240702T192013Z
LAST-MODIFIED:20240702T192013Z
UID:10000530-1747785600-1747871999@www.bereanschs.education
SUMMARY:8th Grade Promotion
DESCRIPTION:
URL:https://www.bereanschs.education/event/8th-grade-promotion-5
END:VEVENT
BEGIN:VEVENT
DTSTART;VALUE=DATE:20250522
DTEND;VALUE=DATE:20250523
DTSTAMP:20260424T084934
CREATED:20240702T183958Z
LAST-MODIFIED:20240702T183958Z
UID:10000513-1747872000-1747958399@www.bereanschs.education
SUMMARY:Last Day of School
DESCRIPTION:
URL:https://www.bereanschs.education/event/last-day-of-school-5
END:VEVENT
BEGIN:VEVENT
DTSTART;TZID=America/Phoenix:20250721T080000
DTEND;TZID=America/Phoenix:20250721T080000
DTSTAMP:20260424T084934
CREATED:20250815T184427Z
LAST-MODIFIED:20250815T184427Z
UID:10000596-1753084800-1753084800@www.bereanschs.education
SUMMARY:Staff Training Week
DESCRIPTION:
URL:https://www.bereanschs.education/event/staff-training-week/2025-07-21
END:VEVENT
BEGIN:VEVENT
DTSTART;TZID=America/Phoenix:20250722T080000
DTEND;TZID=America/Phoenix:20250722T080000
DTSTAMP:20260424T084934
CREATED:20250815T184427Z
LAST-MODIFIED:20250815T184427Z
UID:10000597-1753171200-1753171200@www.bereanschs.education
SUMMARY:Staff Training Week
DESCRIPTION:
URL:https://www.bereanschs.education/event/staff-training-week/2025-07-22
END:VEVENT
BEGIN:VEVENT
DTSTART;TZID=America/Phoenix:20250723T080000
DTEND;TZID=America/Phoenix:20250723T080000
DTSTAMP:20260424T084934
CREATED:20250815T184427Z
LAST-MODIFIED:20250815T184427Z
UID:10000598-1753257600-1753257600@www.bereanschs.education
SUMMARY:Staff Training Week
DESCRIPTION:
URL:https://www.bereanschs.education/event/staff-training-week/2025-07-23
END:VEVENT
END:VCALENDAR