BEGIN:VCALENDAR
VERSION:2.0
PRODID:-//Berean Academy - ECPv6.15.17.1//NONSGML v1.0//EN
CALSCALE:GREGORIAN
METHOD:PUBLISH
X-WR-CALNAME:Berean Academy
X-ORIGINAL-URL:https://www.bereanschs.education
X-WR-CALDESC:Events for Berean Academy
REFRESH-INTERVAL;VALUE=DURATION:PT1H
X-Robots-Tag:noindex
X-PUBLISHED-TTL:PT1H
BEGIN:VTIMEZONE
TZID:America/Phoenix
BEGIN:STANDARD
TZOFFSETFROM:-0700
TZOFFSETTO:-0700
TZNAME:MST
DTSTART:20220101T000000
END:STANDARD
END:VTIMEZONE
BEGIN:VEVENT
DTSTART;VALUE=DATE:20240329
DTEND;VALUE=DATE:20240330
DTSTAMP:20260424T083740
CREATED:20230717T191350Z
LAST-MODIFIED:20230720T024008Z
UID:10000477-1711670400-1711756799@www.bereanschs.education
SUMMARY:Easter Break - No School
DESCRIPTION:
URL:https://www.bereanschs.education/event/easter-break-no-school
END:VEVENT
BEGIN:VEVENT
DTSTART;VALUE=DATE:20240325
DTEND;VALUE=DATE:20240330
DTSTAMP:20260424T083740
CREATED:20230717T191350Z
LAST-MODIFIED:20230720T023910Z
UID:10000476-1711324800-1711756799@www.bereanschs.education
SUMMARY:Parent/Teacher Conferences
DESCRIPTION:
URL:https://www.bereanschs.education/event/parent-teacher-conferences-4
END:VEVENT
BEGIN:VEVENT
DTSTART;VALUE=DATE:20240311
DTEND;VALUE=DATE:20240316
DTSTAMP:20260424T083740
CREATED:20230717T191152Z
LAST-MODIFIED:20230720T023800Z
UID:10000475-1710115200-1710547199@www.bereanschs.education
SUMMARY:Spring Break - No School
DESCRIPTION:
URL:https://www.bereanschs.education/event/spring-break-no-school-4
END:VEVENT
BEGIN:VEVENT
DTSTART;VALUE=DATE:20240308
DTEND;VALUE=DATE:20240309
DTSTAMP:20260424T083740
CREATED:20230717T191151Z
LAST-MODIFIED:20230720T023645Z
UID:10000474-1709856000-1709942399@www.bereanschs.education
SUMMARY:Spring Break - No School
DESCRIPTION:
URL:https://www.bereanschs.education/event/spring-break-no-school-3
END:VEVENT
BEGIN:VEVENT
DTSTART;VALUE=DATE:20240223
DTEND;VALUE=DATE:20240224
DTSTAMP:20260424T083740
CREATED:20230717T191151Z
LAST-MODIFIED:20230720T023601Z
UID:10000473-1708646400-1708732799@www.bereanschs.education
SUMMARY:Teacher In-Service\, No Flex Friday
DESCRIPTION:
URL:https://www.bereanschs.education/event/teacher-in-service-no-flex-friday-4
END:VEVENT
BEGIN:VEVENT
DTSTART;VALUE=DATE:20240221
DTEND;VALUE=DATE:20240222
DTSTAMP:20260424T083740
CREATED:20230717T191151Z
LAST-MODIFIED:20230720T023513Z
UID:10000472-1708473600-1708559999@www.bereanschs.education
SUMMARY:100th Day of School
DESCRIPTION:
URL:https://www.bereanschs.education/event/100th-day-of-school
END:VEVENT
BEGIN:VEVENT
DTSTART;VALUE=DATE:20240219
DTEND;VALUE=DATE:20240220
DTSTAMP:20260424T083740
CREATED:20230717T191150Z
LAST-MODIFIED:20230720T023416Z
UID:10000471-1708300800-1708387199@www.bereanschs.education
SUMMARY:Presidents Day - No School
DESCRIPTION:
URL:https://www.bereanschs.education/event/presidents-day-no-school-4
END:VEVENT
BEGIN:VEVENT
DTSTART;VALUE=DATE:20240216
DTEND;VALUE=DATE:20240217
DTSTAMP:20260424T083740
CREATED:20230717T190951Z
LAST-MODIFIED:20230720T023257Z
UID:10000470-1708041600-1708127999@www.bereanschs.education
SUMMARY:Presidents Day - No School
DESCRIPTION:
URL:https://www.bereanschs.education/event/presidents-day-no-school-3
END:VEVENT
BEGIN:VEVENT
DTSTART;VALUE=DATE:20240119
DTEND;VALUE=DATE:20240120
DTSTAMP:20260424T083740
CREATED:20230717T190950Z
LAST-MODIFIED:20230720T023143Z
UID:10000469-1705622400-1705708799@www.bereanschs.education
SUMMARY:Teacher In-Service\, No Flex Friday
DESCRIPTION:
URL:https://www.bereanschs.education/event/teacher-in-service-no-flex-friday-3
END:VEVENT
BEGIN:VEVENT
DTSTART;VALUE=DATE:20240116
DTEND;VALUE=DATE:20240120
DTSTAMP:20260424T083740
CREATED:20230717T190950Z
LAST-MODIFIED:20230720T023030Z
UID:10000468-1705363200-1705708799@www.bereanschs.education
SUMMARY:Parent/Teacher Conferences
DESCRIPTION:
URL:https://www.bereanschs.education/event/parent-teacher-conferences-3
END:VEVENT
BEGIN:VEVENT
DTSTART;VALUE=DATE:20240115
DTEND;VALUE=DATE:20240116
DTSTAMP:20260424T083740
CREATED:20230717T190949Z
LAST-MODIFIED:20230720T022900Z
UID:10000467-1705276800-1705363199@www.bereanschs.education
SUMMARY:Martin Luther King Jr. Day - No School
DESCRIPTION:
URL:https://www.bereanschs.education/event/martin-luther-king-jr-day-no-school
END:VEVENT
BEGIN:VEVENT
DTSTART;TZID=America/Phoenix:20240109T153000
DTEND;TZID=America/Phoenix:20240109T153000
DTSTAMP:20260424T083740
CREATED:20240106T191414Z
LAST-MODIFIED:20240106T191414Z
UID:10000505-1704814200-1704814200@www.bereanschs.education
SUMMARY:Governing Board Meeting
DESCRIPTION:
URL:https://www.bereanschs.education/event/governing-board-meeting-14
END:VEVENT
BEGIN:VEVENT
DTSTART;VALUE=DATE:20240101
DTEND;VALUE=DATE:20240102
DTSTAMP:20260424T083740
CREATED:20230717T190949Z
LAST-MODIFIED:20230720T022724Z
UID:10000466-1704067200-1704153599@www.bereanschs.education
SUMMARY:Winter Break - No School
DESCRIPTION:
URL:https://www.bereanschs.education/event/winter-break-no-school-7
END:VEVENT
BEGIN:VEVENT
DTSTART;VALUE=DATE:20231225
DTEND;VALUE=DATE:20231230
DTSTAMP:20260424T083740
CREATED:20230717T190750Z
LAST-MODIFIED:20230720T022636Z
UID:10000465-1703462400-1703894399@www.bereanschs.education
SUMMARY:Winter Break - No School
DESCRIPTION:
URL:https://www.bereanschs.education/event/winter-break-no-school-6
END:VEVENT
BEGIN:VEVENT
DTSTART;VALUE=DATE:20231218
DTEND;VALUE=DATE:20231223
DTSTAMP:20260424T083740
CREATED:20230717T190749Z
LAST-MODIFIED:20230720T022514Z
UID:10000464-1702857600-1703289599@www.bereanschs.education
SUMMARY:Winter Break - No School
DESCRIPTION:
URL:https://www.bereanschs.education/event/winter-break-no-school-5
END:VEVENT
BEGIN:VEVENT
DTSTART;VALUE=DATE:20231215
DTEND;VALUE=DATE:20231216
DTSTAMP:20260424T083740
CREATED:20230717T190749Z
LAST-MODIFIED:20230720T022433Z
UID:10000463-1702598400-1702684799@www.bereanschs.education
SUMMARY:Winter Break - No School
DESCRIPTION:
URL:https://www.bereanschs.education/event/winter-break-no-school-4
END:VEVENT
BEGIN:VEVENT
DTSTART;VALUE=DATE:20231122
DTEND;VALUE=DATE:20231125
DTSTAMP:20260424T083740
CREATED:20230717T190749Z
LAST-MODIFIED:20230720T022347Z
UID:10000462-1700611200-1700870399@www.bereanschs.education
SUMMARY:Thanksgiving Break - No School
DESCRIPTION:
URL:https://www.bereanschs.education/event/thanksgiving-break-no-school-4
END:VEVENT
BEGIN:VEVENT
DTSTART;VALUE=DATE:20231110
DTEND;VALUE=DATE:20231111
DTSTAMP:20260424T083740
CREATED:20230717T190748Z
LAST-MODIFIED:20230720T022314Z
UID:10000461-1699574400-1699660799@www.bereanschs.education
SUMMARY:Veteran's Day - Observed - No School
DESCRIPTION:
URL:https://www.bereanschs.education/event/veterans-day-observed-no-school
END:VEVENT
BEGIN:VEVENT
DTSTART;TZID=America/Phoenix:20231026T190000
DTEND;TZID=America/Phoenix:20231026T210000
DTSTAMP:20260424T083740
CREATED:20230810T234547Z
LAST-MODIFIED:20230810T234547Z
UID:10000503-1698346800-1698354000@www.bereanschs.education
SUMMARY:Football vs. Skyline Prep Academy
DESCRIPTION:
URL:https://www.bereanschs.education/event/football-vs-skyline-prep-academy
LOCATION:Apache Middle School
END:VEVENT
BEGIN:VEVENT
DTSTART;VALUE=DATE:20231023
DTEND;VALUE=DATE:20231028
DTSTAMP:20260424T083740
CREATED:20230717T190548Z
LAST-MODIFIED:20230720T022239Z
UID:10000460-1698019200-1698451199@www.bereanschs.education
SUMMARY:Parent/Teacher Conferences
DESCRIPTION:
URL:https://www.bereanschs.education/event/parent-teacher-conferences-2
END:VEVENT
BEGIN:VEVENT
DTSTART;TZID=America/Phoenix:20231021T190000
DTEND;TZID=America/Phoenix:20231021T210000
DTSTAMP:20260424T083740
CREATED:20230810T234510Z
LAST-MODIFIED:20230810T234510Z
UID:10000502-1697914800-1697922000@www.bereanschs.education
SUMMARY:Football @ Heritage Academy Gateway
DESCRIPTION:
URL:https://www.bereanschs.education/event/football-heritage-academy-gateway
LOCATION:Benjamin Franklin Charter High School/Field
END:VEVENT
BEGIN:VEVENT
DTSTART;TZID=America/Phoenix:20231020T180000
DTEND;TZID=America/Phoenix:20231020T193000
DTSTAMP:20260424T083740
CREATED:20230810T234420Z
LAST-MODIFIED:20230810T234420Z
UID:10000501-1697824800-1697830200@www.bereanschs.education
SUMMARY:Volleyball vs. ASU Prep
DESCRIPTION:
URL:https://www.bereanschs.education/event/volleyball-vs-asu-prep
LOCATION:Valley View Elementary
END:VEVENT
BEGIN:VEVENT
DTSTART;VALUE=DATE:20231020
DTEND;VALUE=DATE:20231021
DTSTAMP:20260424T083740
CREATED:20230717T190547Z
LAST-MODIFIED:20230720T022205Z
UID:10000459-1697760000-1697846399@www.bereanschs.education
SUMMARY:Teacher In-Service\, No Flex Friday
DESCRIPTION:
URL:https://www.bereanschs.education/event/teacher-in-service-no-flex-friday-2
END:VEVENT
BEGIN:VEVENT
DTSTART;TZID=America/Phoenix:20231018T180000
DTEND;TZID=America/Phoenix:20231018T193000
DTSTAMP:20260424T083740
CREATED:20230810T234352Z
LAST-MODIFIED:20230810T234352Z
UID:10000500-1697652000-1697657400@www.bereanschs.education
SUMMARY:Volleyball vs. Skyline Gila River
DESCRIPTION:
URL:https://www.bereanschs.education/event/volleyball-vs-skyline-gila-river
LOCATION:Valley View Elementary
END:VEVENT
BEGIN:VEVENT
DTSTART;VALUE=DATE:20231017
DTEND;VALUE=DATE:20231018
DTSTAMP:20260424T083740
CREATED:20230717T190547Z
LAST-MODIFIED:20230720T022136Z
UID:10000458-1697500800-1697587199@www.bereanschs.education
SUMMARY:40th Day of School
DESCRIPTION:
URL:https://www.bereanschs.education/event/40th-day-of-school
END:VEVENT
BEGIN:VEVENT
DTSTART;TZID=America/Phoenix:20231013T173000
DTEND;TZID=America/Phoenix:20231013T190000
DTSTAMP:20260424T083740
CREATED:20230810T234313Z
LAST-MODIFIED:20230810T234313Z
UID:10000499-1697218200-1697223600@www.bereanschs.education
SUMMARY:Volleyball @ Tri City Christian Academy
DESCRIPTION:
URL:https://www.bereanschs.education/event/volleyball-tri-city-christian-academy
END:VEVENT
BEGIN:VEVENT
DTSTART;TZID=America/Phoenix:20231012T190000
DTEND;TZID=America/Phoenix:20231012T210000
DTSTAMP:20260424T083740
CREATED:20230810T234249Z
LAST-MODIFIED:20230810T234249Z
UID:10000498-1697137200-1697144400@www.bereanschs.education
SUMMARY:Football vs. Skyline Gila River
DESCRIPTION:
URL:https://www.bereanschs.education/event/football-vs-skyline-gila-river
LOCATION:Apache Middle School
END:VEVENT
BEGIN:VEVENT
DTSTART;VALUE=DATE:20231009
DTEND;VALUE=DATE:20231014
DTSTAMP:20260424T083740
CREATED:20230717T190546Z
LAST-MODIFIED:20230720T022039Z
UID:10000457-1696809600-1697241599@www.bereanschs.education
SUMMARY:Fall Break
DESCRIPTION:
URL:https://www.bereanschs.education/event/fall-break-2
END:VEVENT
BEGIN:VEVENT
DTSTART;VALUE=DATE:20231006
DTEND;VALUE=DATE:20231007
DTSTAMP:20260424T083740
CREATED:20230717T190546Z
LAST-MODIFIED:20230720T021900Z
UID:10000456-1696550400-1696636799@www.bereanschs.education
SUMMARY:Fall Break
DESCRIPTION:
URL:https://www.bereanschs.education/event/fall-break
END:VEVENT
BEGIN:VEVENT
DTSTART;TZID=America/Phoenix:20230928T190000
DTEND;TZID=America/Phoenix:20230928T210000
DTSTAMP:20260424T083740
CREATED:20230810T234104Z
LAST-MODIFIED:20230810T234104Z
UID:10000497-1695927600-1695934800@www.bereanschs.education
SUMMARY:Football vs. AZ Compass
DESCRIPTION:
URL:https://www.bereanschs.education/event/football-vs-az-compass
LOCATION:Apache Middle School
END:VEVENT
END:VCALENDAR