BEGIN:VCALENDAR
VERSION:2.0
PRODID:-//Berean Academy - ECPv6.15.17.1//NONSGML v1.0//EN
CALSCALE:GREGORIAN
METHOD:PUBLISH
X-WR-CALNAME:Berean Academy
X-ORIGINAL-URL:https://www.bereanschs.education
X-WR-CALDESC:Events for Berean Academy
REFRESH-INTERVAL;VALUE=DURATION:PT1H
X-Robots-Tag:noindex
X-PUBLISHED-TTL:PT1H
BEGIN:VTIMEZONE
TZID:America/Phoenix
BEGIN:STANDARD
TZOFFSETFROM:-0700
TZOFFSETTO:-0700
TZNAME:MST
DTSTART:20250101T000000
END:STANDARD
END:VTIMEZONE
BEGIN:VEVENT
DTSTART;VALUE=DATE:20260420
DTEND;VALUE=DATE:20260424
DTSTAMP:20260423T204516
CREATED:20250816T015508Z
LAST-MODIFIED:20250816T015508Z
UID:10000683-1776643200-1776988799@www.bereanschs.education
SUMMARY:Spirit Week (Student Council)
DESCRIPTION:
URL:https://www.bereanschs.education/event/spirit-week-student-council-2
END:VEVENT
BEGIN:VEVENT
DTSTART;VALUE=DATE:20260421
DTEND;VALUE=DATE:20260422
DTSTAMP:20260423T204516
CREATED:20250816T015434Z
LAST-MODIFIED:20250816T015434Z
UID:10000682-1776729600-1776815999@www.bereanschs.education
SUMMARY:PLC
DESCRIPTION:
URL:https://www.bereanschs.education/event/plc
END:VEVENT
BEGIN:VEVENT
DTSTART;VALUE=DATE:20260421
DTEND;VALUE=DATE:20260422
DTSTAMP:20260423T204516
CREATED:20250816T015741Z
LAST-MODIFIED:20250816T015741Z
UID:10000685-1776729600-1776815999@www.bereanschs.education
SUMMARY:Movie Day (K-3rd) (4th-6th) (SENIORS)
DESCRIPTION:
URL:https://www.bereanschs.education/event/movie-day-k-3rd-4th-6th-seniors/2026-04-21
END:VEVENT
END:VCALENDAR