BEGIN:VCALENDAR
VERSION:2.0
PRODID:-//Berean Academy - ECPv6.15.17.1//NONSGML v1.0//EN
CALSCALE:GREGORIAN
METHOD:PUBLISH
X-ORIGINAL-URL:https://www.bereanschs.education
X-WR-CALDESC:Events for Berean Academy
REFRESH-INTERVAL;VALUE=DURATION:PT1H
X-Robots-Tag:noindex
X-PUBLISHED-TTL:PT1H
BEGIN:VTIMEZONE
TZID:America/Phoenix
BEGIN:STANDARD
TZOFFSETFROM:-0700
TZOFFSETTO:-0700
TZNAME:MST
DTSTART:20230101T000000
END:STANDARD
END:VTIMEZONE
BEGIN:VEVENT
DTSTART;TZID=America/Phoenix:20240627T133000
DTEND;TZID=America/Phoenix:20240627T133000
DTSTAMP:20260424T033225
CREATED:20240626T200515Z
LAST-MODIFIED:20240626T200515Z
UID:10000506-1719495000-1719495000@www.bereanschs.education
SUMMARY:Board Meeting
DESCRIPTION:Join with Google Meet
URL:https://www.bereanschs.education/event/board-meeting-17
LOCATION:Berean Academy Campus Room Admin Building/Principal’s Office\, 1169 Colombo Ave.\, Sierra Vista\, AZ\, 85635\, United States
END:VEVENT
END:VCALENDAR