BEGIN:VCALENDAR
VERSION:2.0
PRODID:-//Berean Academy - ECPv6.15.17.1//NONSGML v1.0//EN
CALSCALE:GREGORIAN
METHOD:PUBLISH
X-ORIGINAL-URL:https://www.bereanschs.education
X-WR-CALDESC:Events for Berean Academy
REFRESH-INTERVAL;VALUE=DURATION:PT1H
X-Robots-Tag:noindex
X-PUBLISHED-TTL:PT1H
BEGIN:VTIMEZONE
TZID:America/Phoenix
BEGIN:STANDARD
TZOFFSETFROM:-0700
TZOFFSETTO:-0700
TZNAME:MST
DTSTART:20230101T000000
END:STANDARD
END:VTIMEZONE
BEGIN:VEVENT
DTSTART;VALUE=DATE:20240521
DTEND;VALUE=DATE:20240522
DTSTAMP:20260424T050950
CREATED:20230717T191551Z
LAST-MODIFIED:20230720T024316Z
UID:10000481-1716249600-1716335999@www.bereanschs.education
SUMMARY:High School Graduation
DESCRIPTION:
URL:https://www.bereanschs.education/event/high-school-graduation
END:VEVENT
END:VCALENDAR